Workbook

Sheet БУЏЕТ 2025
A1: БУЏЕТ СОБРАНИЕ НА РЕПУБЛИКА СЕВЕРНА МАКЕДОНИЈА 2025 ГОДИНА
A2: Сметка | B2: Програма | D2: Поставка | F2: Буџет
A3: 630 | B3: 20 | C3: СОБРАНИЕ НА РЕПУБЛИКА СЕВЕРНА МАКЕДОНИЈА | D3: 401 | E3: Основни плати | F3: 423750000
A4: 630 | B4: 20 | C4: СОБРАНИЕ НА РЕПУБЛИКА СЕВЕРНА МАКЕДОНИЈА | D4: 402 | E4: Придонеси за социјално | F4: 164900000
A5: 630 | B5: 20 | C5: СОБРАНИЕ НА РЕПУБЛИКА СЕВЕРНА МАКЕДОНИЈА | D5: 404 | E5: Надоместоци | F5: 6000000
A6: 630 | B6: 20 | C6: СОБРАНИЕ НА РЕПУБЛИКА СЕВЕРНА МАКЕДОНИЈА | D6: 420 | E6: Патни и дневни расходи | F6: 40000000
A7: 630 | B7: 20 | C7: СОБРАНИЕ НА РЕПУБЛИКА СЕВЕРНА МАКЕДОНИЈА | D7: 421 | E7: Комунални услуги, греење, | F7: 40000000
A8: 630 | B8: 20 | C8: СОБРАНИЕ НА РЕПУБЛИКА СЕВЕРНА МАКЕДОНИЈА | D8: 423 | E8: Материјали и ситен инвентар | F8: 15000000
A9: 630 | B9: 20 | C9: СОБРАНИЕ НА РЕПУБЛИКА СЕВЕРНА МАКЕДОНИЈА | D9: 424 | E9: Поправки и тековно одржување | F9: 25000000
A10: 630 | B10: 20 | C10: СОБРАНИЕ НА РЕПУБЛИКА СЕВЕРНА МАКЕДОНИЈА | D10: 425 | E10: Договорни услуги | F10: 13000000
A11: 630 | B11: 20 | C11: СОБРАНИЕ НА РЕПУБЛИКА СЕВЕРНА МАКЕДОНИЈА | D11: 426 | E11: Други тековни расходи | F11: 25000000
A12: 630 | B12: 20 | C12: СОБРАНИЕ НА РЕПУБЛИКА СЕВЕРНА МАКЕДОНИЈА | D12: 427 | E12: Привремени вработувања | F12: 30700000
A13: 630 | B13: 20 | C13: СОБРАНИЕ НА РЕПУБЛИКА СЕВЕРНА МАКЕДОНИЈА | D13: 464 | E13: Разни трансфери | F13: 2000000
A14: 630 | B14: 20 | C14: СОБРАНИЕ НА РЕПУБЛИКА СЕВЕРНА МАКЕДОНИЈА | D14: 480 | E14: Купување на опрема и машини | F14: 45900000
A15: 630 | B15: 20 | C15: СОБРАНИЕ НА РЕПУБЛИКА СЕВЕРНА МАКЕДОНИЈА | D15: 483 | E15: Купување на мебел | F15: 2000000
A16: 630 | B16: 20 | C16: СОБРАНИЕ НА РЕПУБЛИКА СЕВЕРНА МАКЕДОНИЈА | D16: 485 | E16: Вложувања и нефинансиски средства | F16: 10500000
A17: 630 | B17: 21 | C17: КОНТАКТИ СО ГРАЃАНИ | D17: 425 | E17: Договорни услуги | F17: 7000000
A18: 630 | B18: 21 | C18: КОНТАКТИ СО ГРАЃАНИ | D18: 426 | E18: Други тековни расходи | F18: 2400000
A19: 630 | B19: 22 | C19: ИЗГРАДБА НА СОБРАНИСКА ЗГРАДА | D19: 424 | E19: Поправки и тековно одржување | F19: 3400000
A20: 630 | B20: 22 | C20: ИЗГРАДБА НА СОБРАНИСКА ЗГРАДА | D20: 480 | E20: Купување на опрема и машини | F20: 600000
A21: 630 | B21: 22 | C21: ИЗГРАДБА НА СОБРАНИСКА ЗГРАДА | D21: 481 | E21: Градежни објекти | F21: 5000000
A22: 630 | B22: 23 | C22: СОБРАНИСКИ КАНАЛ | D22: 423 | E22: Материјали и ситен инвентар | F22: 300000
A23: 630 | B23: 23 | C23: СОБРАНИСКИ КАНАЛ | D23: 424 | E23: Поправки и тековно одржување | F23: 2340000
A24: 630 | B24: 23 | C24: СОБРАНИСКИ КАНАЛ | D24: 425 | E24: Договорни услуги | F24: 1500000
A25: 630 | B25: 23 | C25: СОБРАНИСКИ КАНАЛ | D25: 426 | E25: Други тековни расходи | F25: 1000000
A26: 630 | B26: 23 | C26: СОБРАНИСКИ КАНАЛ | D26: 480 | E26: Купување опрема и машини | F26: 1600000
A27: 630 | B27: 23 | C27: СОБРАНИСКИ КАНАЛ | D27: 483 | E27: Купување на мебел | F27: 660000
A28: 630 | B28: 23 | C28: СОБРАНИСКИ КАНАЛ | D28: 485 | E28: Вложувања и нефинансиски средства | F28: 500000
A29: 630 | B29: 26 | C29: ПАРЛАМЕНТАРЕН ИНСТИТУТ | D29: 420 | E29: Патни и дневни расходи | F29: 2300000
A30: 630 | B30: 26 | C30: ПАРЛАМЕНТАРЕН ИНСТИТУТ | D30: 424 | E30: Поправки и тековно одржување | F30: 1500000
A31: 630 | B31: 26 | C31: ПАРЛАМЕНТАРЕН ИНСТИТУТ | D31: 425 | E31: Договорни услуги | F31: 2150000
A32: 630 | B32: 26 | C32: ПАРЛАМЕНТАРЕН ИНСТИТУТ | D32: 426 | E32: Други тековни расходи | F32: 1400000
A33: 630 | B33: 26 | C33: ПАРЛАМЕНТАРЕН ИНСТИТУТ | D33: 485 | E33: Вложувања и нефинансиски средства | F33: 3000000
A34: 630 | B34: 27 | C34: СОВЕТ ЗА ГРАЃАНСКИ НАДЗОР | D34: 420 | E34: Патни и дневни расходи | F34: 500000
A35: 630 | B35: 27 | C35: СОВЕТ ЗА ГРАЃАНСКИ НАДЗОР | D35: 425 | E35: Договорни услуги | F35: 3500000
A36: 630 | B36: 27 | C36: СОВЕТ ЗА ГРАЃАНСКИ НАДЗОР | D36: 426 | E36: Други тековни расходи | F36: 1000000
A37: 785 | B37: 28 | C37: ПРОГРАМА ЗА ПОДДРШКА НА ПАРЛАМЕНТОТ | D37: 420 | E37: Патни и дневни расходи | F37: 900000
A38: 785 | B38: 28 | C38: ПРОГРАМА ЗА ПОДДРШКА НА ПАРЛАМЕНТОТ | D38: 424 | E38: Поправки и тековно одржување | F38: 260000
A39: 785 | B39: 28 | C39: ПРОГРАМА ЗА ПОДДРШКА НА ПАРЛАМЕНТОТ | D39: 425 | E39: Договорни услуги | F39: 1400000
A40: 785 | B40: 28 | C40: ПРОГРАМА ЗА ПОДДРШКА НА ПАРЛАМЕНТОТ | D40: 426 | E40: Други тековни расходи | F40: 300000
...

Sheet ПОСТАВКА
A1: БУЏЕТ РАЗДЕЛ 02001 СОБРАНИЕ НА РЕПУБЛИКА СЕВЕРНА МАКЕДОНИЈА 2025 ГОДИНА (состојба 29.12.2025)
B3: Програма | D3: Поставка | F3: Буџет | G3: Реализирано | H3: Остаток | I3: Процент
A4: 630 | B4: 20 | C4: СОБРАНИЕ НА РЕПУБЛИКА СЕВЕРНА МАКЕДОНИЈА | D4: 401 | E4: Основни плати | F4: =SUM(F5:F9) -> 418150000 | G4: =SUM(G5:G9) -> 408768684 | H4: =F4-G4 -> 9381316 | I4: =G4/F4*100 -> 97.756471
B5: 20 | C5: СОБРАНИЕ НА РЕПУБЛИКА СЕВЕРНА МАКЕДОНИЈА | D5: 401110 | E5: Основни плати -функционери | F5: 206950000 | G5: 203870541 | H5: =F5-G5 -> 3079459
B6: 20 | C6: СОБРАНИЕ НА РЕПУБЛИКА СЕВЕРНА МАКЕДОНИЈА | D6: 401120 | E6: Основни плати - државни службеници | F6: 160000000 | G6: 154122457 | H6: =F6-G6 -> 5877543
B7: 20 | C7: СОБРАНИЕ НА РЕПУБЛИКА СЕВЕРНА МАКЕДОНИЈА | D7: 401130 | E7: Основни плати - други вработени | F7: 14700000 | G7: 14603162 | H7: =F7-G7 -> 96838
B8: 20 | C8: СОБРАНИЕ НА РЕПУБЛИКА СЕВЕРНА МАКЕДОНИЈА | D8: 401310 | E8: Персонален данок на доход од плата | F8: 36000000 | G8: 35721292 | H8: =F8-G8 -> 278708
B9: 20 | C9: СОБРАНИЕ НА РЕПУБЛИКА СЕВЕРНА МАКЕДОНИЈА | D9: 401320 | E9: Персонален данок на доход од надоместоци | F9: 500000 | G9: 451232 | H9: =F9-G9 -> 48768
A10: 630 | B10: 20 | C10: СОБРАНИЕ НА РЕПУБЛИКА СЕВЕРНА МАКЕДОНИЈА | D10: 402 | E10: Придонеси за социјално осигурување | F10: =SUM(F11:F14) -> 162900000 | G10: =SUM(G11:G14) -> 158790228 | H10: =F10-G10 -> 4109772 | I10: =G10/F10*100 -> 97.47712
B11: 20 | C11: СОБРАНИЕ НА РЕПУБЛИКА СЕВЕРНА МАКЕДОНИЈА | D11: 402110 | E11: Основни придонеси за ПИО | F11: 110500000 | G11: 106616188 | H11: =F11-G11 -> 3883812
B12: 20 | C12: СОБРАНИЕ НА РЕПУБЛИКА СЕВЕРНА МАКЕДОНИЈА | D12: 402210 | E12: Основни придонеси за здравство | F12: 42600000 | G12: 42533026 | H12: =F12-G12 -> 66974
B13: 20 | C13: СОБРАНИЕ НА РЕПУБЛИКА СЕВЕРНА МАКЕДОНИЈА | D13: 402220 | E13: Основен придонес за професионално заболување | F13: 2900000 | G13: 2835629 | H13: =F13-G13 -> 64371
B14: 20 | C14: СОБРАНИЕ НА РЕПУБЛИКА СЕВЕРНА МАКЕДОНИЈА | D14: 402310 | E14: Основни продонеси до Агенцијата за вработување | F14: 6900000 | G14: 6805385 | H14: =F14-G14 -> 94615
A15: 630 | B15: 20 | C15: СОБРАНИЕ НА РЕПУБЛИКА СЕВЕРНА МАКЕДОНИЈА | D15: 404 | E15: Надоместоци | F15: =SUM(F16:F17) -> 6000000 | G15: =SUM(G16:G17) -> 4060231 | H15: =F15-G15 -> 1939769 | I15: =G15/F15*100 -> 67.670517
B16: 20 | C16: СОБРАНИЕ НА РЕПУБЛИКА СЕВЕРНА МАКЕДОНИЈА | D16: 404110 | E16: Надомест за годишен одмор | F16: 5000000 | G16: 3550764 | H16: =F16-G16 -> 1449236
B17: 20 | C17: СОБРАНИЕ НА РЕПУБЛИКА СЕВЕРНА МАКЕДОНИЈА | D17: 404150 | E17: Други надоместоци | F17: 1000000 | G17: 509467 | H17: =F17-G17 -> 490533
A18: 630 | B18: 20 | C18: СОБРАНИЕ НА РЕПУБЛИКА СЕВЕРНА МАКЕДОНИЈА | D18: 420 | E18: Патни и дневни расходи | F18: =SUM(F19:F25) -> 42000000 | G18: =SUM(G19:G25) -> 39638322 | H18: =F18-G18 -> 2361678 | I18: =G18/F18*100 -> 94.376957
B19: 20 | C19: СОБРАНИЕ НА РЕПУБЛИКА СЕВЕРНА МАКЕДОНИЈА | D19: 420120 | E19: Патување во земјата - патни расходи | F19: 16600000 | G19: 15786094 | H19: =F19-G19 -> 813906
B20: 20 | C20: СОБРАНИЕ НА РЕПУБЛИКА СЕВЕРНА МАКЕДОНИЈА | D20: 420130 | E20: Патување во земјата - сместување | F20: 1300000 | G20: 1236977 | H20: =F20-G20 -> 63023
B21: 20 | C21: СОБРАНИЕ НА РЕПУБЛИКА СЕВЕРНА МАКЕДОНИЈА | D21: 420140 | E21: Патување во земјата - други трошоци | F21: 0 | G21: 0 | H21: =F21-G21 -> 0
B22: 20 | C22: СОБРАНИЕ НА РЕПУБЛИКА СЕВЕРНА МАКЕДОНИЈА | D22: 420210 | E22: Патување во странство - хранарина (дневница) | F22: 4000000 | G22: 3774547 | H22: =F22-G22 -> 225453
B23: 20 | C23: СОБРАНИЕ НА РЕПУБЛИКА СЕВЕРНА МАКЕДОНИЈА | D23: 420220 | E23: Патување во странство - патни расходи | F23: 9000000 | G23: 8240327 | H23: =F23-G23 -> 759673
B24: 20 | C24: СОБРАНИЕ НА РЕПУБЛИКА СЕВЕРНА МАКЕДОНИЈА | D24: 420230 | E24: Патување во странство - сместување | F24: 10100000 | G24: 9615986 | H24: =F24-G24 -> 484014
B25: 20 | C25: СОБРАНИЕ НА РЕПУБЛИКА СЕВЕРНА МАКЕДОНИЈА | D25: 420240 | E25: Патување во странство - споредни расходи | F25: 1000000 | G25: 984391 | H25: =F25-G25 -> 15609
A26: 630 | B26: 20 | C26: СОБРАНИЕ НА РЕПУБЛИКА СЕВЕРНА МАКЕДОНИЈА | D26: 421 | E26: Комунални услуги, греење, | F26: =SUM(F27:F38) -> 45000000 | G26: =SUM(G27:G38) -> 40237414 | H26: =F26-G26 -> 4762586 | I26: =G26/F26*100 -> 89.416476
B27: 20 | C27: СОБРАНИЕ НА РЕПУБЛИКА СЕВЕРНА МАКЕДОНИЈА | D27: 421110 | E27: Електрична енергија | F27: 24248500 | G27: 20212413 | H27: =F27-G27 -> 4036087
B28: 20 | C28: СОБРАНИЕ НА РЕПУБЛИКА СЕВЕРНА МАКЕДОНИЈА | D28: 421120 | E28: Водовод и канализација | F28: 2200000 | G28: 1597188 | H28: =F28-G28 -> 602812
B29: 20 | C29: СОБРАНИЕ НА РЕПУБЛИКА СЕВЕРНА МАКЕДОНИЈА | D29: 421130 | E29: Ѓубретарина | F29: 770000 | G29: 761239 | H29: =F29-G29 -> 8761
B30: 20 | C30: СОБРАНИЕ НА РЕПУБЛИКА СЕВЕРНА МАКЕДОНИЈА | D30: 421190 | E30: Други комунални услуги | F30: 13000 | G30: 12036 | H30: =F30-G30 -> 964
B31: 20 | C31: СОБРАНИЕ НА РЕПУБЛИКА СЕВЕРНА МАКЕДОНИЈА | D31: 421210 | E31: Греење | F31: 9400000 | G31: 9382486 | H31: =F31-G31 -> 17514
B32: 20 | C32: СОБРАНИЕ НА РЕПУБЛИКА СЕВЕРНА МАКЕДОНИЈА | D32: 421310 | E32: Пошта | F32: 80000 | G32: 71918 | H32: =F32-G32 -> 8082
B33: 20 | C33: СОБРАНИЕ НА РЕПУБЛИКА СЕВЕРНА МАКЕДОНИЈА | D33: 421320 | E33: Телефон | F33: 5500000 | G33: 5470137 | H33: =F33-G33 -> 29863
B34: 20 | C34: СОБРАНИЕ НА РЕПУБЛИКА СЕВЕРНА МАКЕДОНИЈА | D34: 421390 | E34: Други трошоци за комуникација | F34: 1950000 | G34: 1943194 | H34: =F34-G34 -> 6806
B35: 20 | C35: СОБРАНИЕ НА РЕПУБЛИКА СЕВЕРНА МАКЕДОНИЈА | D35: 421410 | E35: Гориво | F35: 810000 | G35: 759803 | H35: =F35-G35 -> 50197
B36: 20 | C36: СОБРАНИЕ НА РЕПУБЛИКА СЕВЕРНА МАКЕДОНИЈА | D36: 421420 | E36: Регистрација на моторни возила | F36: 25000 | G36: 25000 | H36: =F36-G36 -> 0
B37: 20 | C37: СОБРАНИЕ НА РЕПУБЛИКА СЕВЕРНА МАКЕДОНИЈА | D37: 421430 | E37: Транспорт на стоки | F37: 2500 | G37: 2000 | H37: =F37-G37 -> 500
B38: 20 | C38: СОБРАНИЕ НА РЕПУБЛИКА СЕВЕРНА МАКЕДОНИЈА | D38: 421440 | E38: Транспорт на луѓе | F38: 1000 | G38: 0 | H38: =F38-G38 -> 1000
A39: 630 | B39: 20 | C39: СОБРАНИЕ НА РЕПУБЛИКА СЕВЕРНА МАКЕДОНИЈА | D39: 423 | E39: Материјали и ситен инвентар | F39: =SUM(F40:F52) -> 15000000 | G39: =SUM(G40:G52) -> 7567171 | H39: =F39-G39 -> 7432829 | I39: =G39/F39*100 -> 50.447807
B40: 20 | C40: СОБРАНИЕ НА РЕПУБЛИКА СЕВЕРНА МАКЕДОНИЈА | D40: 423110 | E40: Канцелариски материјали | F40: 1500000 | G40: 346899 | H40: =F40-G40 -> 1153101
B41: 20 | C41: СОБРАНИЕ НА РЕПУБЛИКА СЕВЕРНА МАКЕДОНИЈА | D41: 423120 | E41: Весници, списанија и др. Изданија | F41: 1500000 | G41: 537789 | H41: =F41-G41 -> 962211
...

Sheet ИЗВРШУВАЊЕ
A1: БУЏЕТ РАЗДЕЛ 02001 СОБРАНИЕ НА РЕПУБЛИКА СЕВЕРНА МАКЕДОНИЈА 2025ГОДИНА(состојба 29.12.2025)
A2: 3 | B2: Програма | D2: Поставка | F2: Буџет | G2: Реализирано | H2: Остаток | I2: Процент
A3: 630 | B3: 20 | C3: СОБРАНИЕ НА РЕПУБЛИКА СЕВЕРНА МАКЕДОНИЈА | D3: 401 | E3: Основни плати | F3: =ПОСТАВКА!F4 -> 418150000 | G3: =ПОСТАВКА!G4 -> 408768684 | H3: =F3-G3 -> 9381316 | I3: =G3/F3*100 -> 97.756471
A4: 630 | B4: 20 | C4: СОБРАНИЕ НА РЕПУБЛИКА СЕВЕРНА МАКЕДОНИЈА | D4: 402 | E4: Придонеси за социјално | F4: =ПОСТАВКА!F10 -> 162900000 | G4: =ПОСТАВКА!G10 -> 158790228 | H4: =F4-G4 -> 4109772 | I4: =G4/F4*100 -> 97.47712
A5: 630 | B5: 20 | C5: СОБРАНИЕ НА РЕПУБЛИКА СЕВЕРНА МАКЕДОНИЈА | D5: 404 | E5: Надоместоци | F5: 6000000 | G5: =ПОСТАВКА!G15 -> 4060231 | H5: =F5-G5 -> 1939769 | I5: =G5/F5*100 -> 67.670517
A6: 630 | B6: 20 | C6: СОБРАНИЕ НА РЕПУБЛИКА СЕВЕРНА МАКЕДОНИЈА | D6: 420 | E6: Патни и дневни расходи | F6: =ПОСТАВКА!F18 -> 42000000 | G6: =ПОСТАВКА!G18 -> 39638322 | H6: =F6-G6 -> 2361678 | I6: =G6/F6*100 -> 94.376957
A7: 630 | B7: 20 | C7: СОБРАНИЕ НА РЕПУБЛИКА СЕВЕРНА МАКЕДОНИЈА | D7: 421 | E7: Комунални услуги, греење, | F7: =ПОСТАВКА!F26 -> 45000000 | G7: =ПОСТАВКА!G26 -> 40237414 | H7: =F7-G7 -> 4762586 | I7: =G7/F7*100 -> 89.416476
A8: 630 | B8: 20 | C8: СОБРАНИЕ НА РЕПУБЛИКА СЕВЕРНА МАКЕДОНИЈА | D8: 423 | E8: Материјали и ситен инвентар | F8: 15000000 | G8: =ПОСТАВКА!G39 -> 7567171 | H8: =F8-G8 -> 7432829 | I8: =G8/F8*100 -> 50.447807
A9: 630 | B9: 20 | C9: СОБРАНИЕ НА РЕПУБЛИКА СЕВЕРНА МАКЕДОНИЈА | D9: 424 | E9: Поправки и тековно одржување | F9: 25000000 | G9: =ПОСТАВКА!G53 -> 23724613 | H9: =F9-G9 -> 1275387 | I9: =G9/F9*100 -> 94.898452
A10: 630 | B10: 20 | C10: СОБРАНИЕ НА РЕПУБЛИКА СЕВЕРНА МАКЕДОНИЈА | D10: 425 | E10: Договорни услуги | F10: 13000000 | G10: =ПОСТАВКА!G61 -> 10696152 | H10: =F10-G10 -> 2303848 | I10: =G10/F10*100 -> 82.278092
A11: 630 | B11: 20 | C11: СОБРАНИЕ НА РЕПУБЛИКА СЕВЕРНА МАКЕДОНИЈА | D11: 426 | E11: Други тековни расходи | F11: 25000000 | G11: =ПОСТАВКА!G78 -> 23204494 | H11: =F11-G11 -> 1795506 | I11: =G11/F11*100 -> 92.817976
A12: 630 | B12: 20 | C12: СОБРАНИЕ НА РЕПУБЛИКА СЕВЕРНА МАКЕДОНИЈА | D12: 427 | E12: Привремени вработувања | F12: 30700000 | G12: =ПОСТАВКА!G84 -> 26937536 | H12: =F12-G12 -> 3762464 | I12: =G12/F12*100 -> 87.744417
A13: 630 | B13: 20 | C13: СОБРАНИЕ НА РЕПУБЛИКА СЕВЕРНА МАКЕДОНИЈА | D13: 464 | E13: Разни трансфери | F13: =ПОСТАВКА!F86 -> 2500000 | G13: =ПОСТАВКА!G86 -> 2090151 | H13: =F13-G13 -> 409849 | I13: =G13/F13*100 -> 83.60604
A14: 630 | B14: 20 | C14: СОБРАНИЕ НА РЕПУБЛИКА СЕВЕРНА МАКЕДОНИЈА | D14: 480 | E14: Купување на опрема и машини | F14: 45900000 | G14: =ПОСТАВКА!G90 -> 27493022 | H14: =F14-G14 -> 18406978 | I14: =G14/F14*100 -> 59.897651
A15: 630 | B15: 20 | C15: СОБРАНИЕ НА РЕПУБЛИКА СЕВЕРНА МАКЕДОНИЈА | D15: 483 | E15: Купување на мебел | F15: 2000000 | G15: =ПОСТАВКА!G96 -> 675250 | H15: =F15-G15 -> 1324750 | I15: =G15/F15*100 -> 33.7625
A16: 630 | B16: 20 | C16: СОБРАНИЕ НА РЕПУБЛИКА СЕВЕРНА МАКЕДОНИЈА | D16: 485 | E16: Вложувања и нефинансиски средства | F16: 10500000 | G16: =ПОСТАВКА!G99 -> 90688 | H16: =F16-G16 -> 10409312 | I16: =G16/F16*100 -> 0.86369524
A17: 630 | B17: 21 | C17: КОНТАКТИ СО ГРАЃАНИ | D17: 425 | E17: Договорни услуги | F17: 7000000 | G17: =ПОСТАВКА!G103 -> 5010628 | H17: =F17-G17 -> 1989372 | I17: =G17/F17*100 -> 71.5804
A18: 630 | B18: 21 | C18: КОНТАКТИ СО ГРАЃАНИ | D18: 426 | E18: Други тековни расходи | F18: 2400000 | G18: =ПОСТАВКА!G105 -> 262526 | H18: =F18-G18 -> 2137474 | I18: =G18/F18*100 -> 10.938583
A19: 630 | B19: 22 | C19: ИЗГРАДБА НА СОБРАНИСКА ЗГРАДА | D19: 424 | E19: Поправки и тековно одржување | F19: 3400000 | G19: =ПОСТАВКА!G107 -> 1154700 | H19: =F19-G19 -> 2245300 | I19: =G19/F19*100 -> 33.961765
A20: 631 | B20: 23 | C20: ИЗГРАДБА НА СОБРАНИСКА ЗГРАДА | D20: 425 | E20: Договорни услуги | F20: =ПОСТАВКА!F110 -> 100000 | G20: 0
A21: 630 | B21: 22 | C21: ИЗГРАДБА НА СОБРАНИСКА ЗГРАДА | D21: 480 | E21: Купување на опрема и машини | F21: 600000 | G21: =ПОСТАВКА!G112 -> 0 | H21: =F21-G21 -> 600000 | I21: =G21/F21*100 -> 0
A22: 630 | B22: 22 | C22: ИЗГРАДБА НА СОБРАНИСКА ЗГРАДА | D22: 481 | E22: Градежни објекти | F22: 5000000 | G22: =ПОСТАВКА!G115 -> 3994716 | H22: =F22-G22 -> 1005284 | I22: =G22/F22*100 -> 79.89432
A23: 630 | B23: 23 | C23: СОБРАНИСКИ КАНАЛ | D23: 423 | E23: Материјали и ситен инвентар | F23: 300000 | G23: =ПОСТАВКА!G118 -> 108501 | H23: =F23-G23 -> 191499 | I23: =G23/F23*100 -> 36.167
A24: 630 | B24: 23 | C24: СОБРАНИСКИ КАНАЛ | D24: 424 | E24: Поправки и тековно одржување | F24: 2340000 | G24: =ПОСТАВКА!G120 -> 137958 | H24: =F24-G24 -> 2202042 | I24: =G24/F24*100 -> 5.895641
A25: 630 | B25: 23 | C25: СОБРАНИСКИ КАНАЛ | D25: 425 | E25: Договорни услуги | F25: 1500000 | G25: =ПОСТАВКА!G123 -> 105973 | H25: =F25-G25 -> 1394027 | I25: =G25/F25*100 -> 7.0648667
A26: 630 | B26: 23 | C26: СОБРАНИСКИ КАНАЛ | D26: 426 | E26: Други тековни расходи | F26: 1000000 | G26: =ПОСТАВКА!G126 -> 12000 | H26: =F26-G26 -> 988000 | I26: =G26/F26*100 -> 1.2
A27: 630 | B27: 23 | C27: СОБРАНИСКИ КАНАЛ | D27: 480 | E27: Купување на опрема и машини | F27: 1600000 | G27: =ПОСТАВКА!G128 -> 319325 | H27: =F27-G27 -> 1280675
A28: 630 | B28: 23 | C28: СОБРАНИСКИ КАНАЛ | D28: 483 | E28: Купување на мебел | F28: 660000 | G28: =ПОСТАВКА!G131 -> 375877 | H28: =F28-G28 -> 284123
A29: 630 | B29: 23 | C29: СОБРАНИСКИ КАНАЛ | D29: 485 | E29: Вложувања и нефинансиски средства | F29: 500000 | G29: =ПОСТАВКА!G133 -> 223335 | H29: =F29-G29 -> 276665
A30: 630 | B30: 26 | C30: ПАРЛАМЕНТАРЕН ИНСТИТУТ | D30: 420 | E30: Патни и дневни расходи | F30: 2300000 | G30: =ПОСТАВКА!G135 -> 1566084 | H30: =F30-G30 -> 733916 | I30: =G30/F30*100 -> 68.090609
A31: 630 | B31: 26 | C31: ПАРЛАМЕНТАРЕН ИНСТИТУТ | D31: 424 | E31: Поправки и тековно одржување | F31: 1500000 | G31: =ПОСТАВКА!G143 -> 758150 | H31: =F31-G31 -> 741850 | I31: =G31/F31*100 -> 50.543333
A32: 630 | B32: 26 | C32: ПАРЛАМЕНТАРЕН ИНСТИТУТ | D32: 425 | E32: Договорни услуги | F32: 2150000 | G32: =ПОСТАВКА!G146 -> 246162 | H32: =F32-G32 -> 1903838 | I32: =G32/F32*100 -> 11.449395
A33: 630 | B33: 26 | C33: ПАРЛАМЕНТАРЕН ИНСТИТУТ | D33: 426 | E33: Други тековни расходи | F33: 1400000 | G33: =ПОСТАВКА!G154 -> 419051 | H33: =F33-G33 -> 980949 | I33: =G33/F33*100 -> 29.932214
A34: 630 | B34: 26 | C34: ПАРЛАМЕНТАРЕН ИНСТИТУТ | D34: 485 | E34: Вложувања и нефинансиски средства | F34: 3000000 | G34: =ПОСТАВКА!G159 -> 399000 | H34: =F34-G34 -> 2601000 | I34: =G34/F34*100 -> 13.3
A35: 630 | B35: 27 | C35: СОВЕТ ЗА ГРАЃАНСКИ НАДЗОР | D35: 420 | E35: Патни и дневни расходи | F35: 500000 | G35: =ПОСТАВКА!G162 -> 0 | H35: =F35-G35 -> 500000 | I35: =G35/F35*100 -> 0
A36: 630 | B36: 27 | C36: СОВЕТ ЗА ГРАЃАНСКИ НАДЗОР | D36: 425 | E36: Договорни услуги | F36: 3500000 | G36: =ПОСТАВКА!G164 -> 0 | H36: =F36-G36 -> 3500000 | I36: =G36/F36*100 -> 0
A37: 630 | B37: 27 | C37: СОВЕТ ЗА ГРАЃАНСКИ НАДЗОР | D37: 426 | E37: Други тековни расходи | F37: 1000000 | G37: =ПОСТАВКА!G166 -> 0 | H37: =F37-G37 -> 1000000 | I37: =G37/F37*100 -> 0
A38: 785 | B38: 28 | C38: ПРОГРАМА ЗА ПОДДРШКА НА ПАРЛАМЕНТОТ | D38: 420 | E38: Патни и дневни расходи | F38: 900000 | G38: =ПОСТАВКА!G168 -> 853333 | H38: =F38-G38 -> 46667 | I38: =G38/F38*100 -> 94.814778
A39: 785 | B39: 28 | C39: ПРОГРАМА ЗА ПОДДРШКА НА ПАРЛАМЕНТОТ | D39: 424 | E39: Поправки и тековно одржување | F39: 260000 | G39: =ПОСТАВКА!G174 -> 173331 | H39: =F39-G39 -> 86669 | I39: =G39/F39*100 -> 66.665769
A40: 785 | B40: 28 | C40: ПРОГРАМА ЗА ПОДДРШКА НА ПАРЛАМЕТОТ | D40: 425 | E40: Договорни услуги | F40: 1400000 | G40: =ПОСТАВКА!G176 -> 803875 | H40: =F40-G40 -> 596125 | I40: =G40/F40*100 -> 57.419643
...

Sheet 31.01.2025
A1: БУЏЕТ РАЗДЕЛ 02001 СОБРАНИЕ НА РЕПУБЛИКА СЕВЕРНА МАКЕДОНИЈА 2025 ГОДИНА(состојба 01.01.2025-31.01.2025)
A2: Сметка | B2: Програма | D2: Поставка | F2: Буџет | G2: Реализирано | H2: Остаток | I2: Процент
A3: 630 | B3: 20 | C3: СОБРАНИЕ НА РЕПУБЛИКА СЕВЕРНА МАКЕДОНИЈА | D3: 401 | E3: Основни плати | F3: 494250000 | G3: 34619227 | H3: =F3:F44-G3:G44 -> 459630773 | I3: =G3/F3*100 -> 7.004396
A4: 630 | B4: 20 | C4: СОБРАНИЕ НА РЕПУБЛИКА СЕВЕРНА МАКЕДОНИЈА | D4: 402 | E4: Придонеси за социјално | F4: 193200000 | G4: 13475515 | H4: =F4-G4 -> 179724485 | I4: =G4/F4*100 -> 6.9749042
A5: 630 | B5: 20 | C5: СОБРАНИЕ НА РЕПУБЛИКА СЕВЕРНА МАКЕДОНИЈА | D5: 404 | E5: Надоместоци | F5: 6000000 | G5: 0 | H5: =F5-G5 -> 6000000 | I5: =G5/F5*100 -> 0
A6: 630 | B6: 20 | C6: СОБРАНИЕ НА РЕПУБЛИКА СЕВЕРНА МАКЕДОНИЈА | D6: 420 | E6: Патни и дневни расходи | F6: 40000000 | G6: 3608193 | H6: =F6-G6 -> 36391807 | I6: =G6/F6*100 -> 9.0204825
A7: 630 | B7: 20 | C7: СОБРАНИЕ НА РЕПУБЛИКА СЕВЕРНА МАКЕДОНИЈА | D7: 421 | E7: Комунални услуги, греење, | F7: 40000000 | G7: 4103258 | H7: =F7-G7 -> 35896742 | I7: =G7/F7*100 -> 10.258145
A8: 630 | B8: 20 | C8: СОБРАНИЕ НА РЕПУБЛИКА СЕВЕРНА МАКЕДОНИЈА | D8: 423 | E8: Материјали и ситен инвентар | F8: 15000000 | G8: 489123 | H8: =F8-G8 -> 14510877 | I8: =G8/F8*100 -> 3.26082
A9: 630 | B9: 20 | C9: СОБРАНИЕ НА РЕПУБЛИКА СЕВЕРНА МАКЕДОНИЈА | D9: 424 | E9: Поправки и тековно одржување | F9: 25000000 | G9: 1100044 | H9: =F9-G9 -> 23899956 | I9: =G9/F9*100 -> 4.400176
A10: 630 | B10: 20 | C10: СОБРАНИЕ НА РЕПУБЛИКА СЕВЕРНА МАКЕДОНИЈА | D10: 425 | E10: Договорни услуги | F10: 15000000 | G10: 557511 | H10: =F10-G10 -> 14442489 | I10: =G10/F10*100 -> 3.71674
A11: 630 | B11: 20 | C11: СОБРАНИЕ НА РЕПУБЛИКА СЕВЕРНА МАКЕДОНИЈА | D11: 426 | E11: Други тековни расходи | F11: 25000000 | G11: 2058361 | H11: =F11-G11 -> 22941639 | I11: =G11/F11*100 -> 8.233444
A12: 630 | B12: 20 | C12: СОБРАНИЕ НА РЕПУБЛИКА СЕВЕРНА МАКЕДОНИЈА | D12: 427 | E12: Привремени вработувања | F12: 30700000 | G12: 2061922 | H12: =F12-G12 -> 28638078 | I12: =G12/F12*100 -> 6.7163583
A13: 630 | B13: 20 | C13: СОБРАНИЕ НА РЕПУБЛИКА СЕВЕРНА МАКЕДОНИЈА | D13: 464 | E13: Разни трансфери | F13: 2000000 | G13: 129742 | H13: =F13-G13 -> 1870258 | I13: =G13/F13*100 -> 6.4871
A14: 630 | B14: 20 | C14: СОБРАНИЕ НА РЕПУБЛИКА СЕВЕРНА МАКЕДОНИЈА | D14: 480 | E14: Купување на опрема и машини | F14: 35400000 | G14: 15750 | H14: =F14-G14 -> 35384250 | I14: =G14/F14*100 -> 0.044491525
A15: 630 | B15: 20 | C15: СОБРАНИЕ НА РЕПУБЛИКА СЕВЕРНА МАКЕДОНИЈА | D15: 483 | E15: Купување на мебел | F15: 2000000 | G15: 0 | H15: =F15-G15 -> 2000000 | I15: =G15/F15*100 -> 0
A16: 630 | B16: 20 | C16: СОБРАНИЕ НА РЕПУБЛИКА СЕВЕРНА МАКЕДОНИЈА | D16: 485 | E16: Вложувања и нефинансиски средства | F16: 10500000 | G16: 0 | H16: =F16-G16 -> 10500000 | I16: =G16/F16*100 -> 0
A17: 630 | B17: 21 | C17: КОНТАКТИ СО ГРАЃАНИ | D17: 425 | E17: Договорни услуги | F17: 9000000 | G17: 310000 | H17: =F17-G17 -> 8690000 | I17: =G17/F17*100 -> 3.4444444
... A23: 630 | B23: 23 | C23: СОБРАНИСКИ КАНАЛ | D23: 424 | E23: Поправки и тековно одржување | F23: 2500000 | G23: 0 | H23: =F23-G23 -> 2500000 | I23: =G23/F23*100 -> 0
A24: 630 | B24: 23 | C24: СОБРАНИСКИ КАНАЛ | D24: 425 | E24: Договорни услуги | F24: 1500000 | G24: 46020 | H24: =F24-G24 -> 1453980 | I24: =G24/F24*100 -> 3.068
A25: 630 | B25: 23 | C25: СОБРАНИСКИ КАНАЛ | D25: 426 | E25: Други тековни расходи | F25: 1000000 | G25: 12000 | H25: =F25-G25 -> 988000 | I25: =G25/F25*100 -> 1.2
A26: 630 | B26: 23 | C26: СОБРАНИСКИ КАНАЛ | D26: 480 | E26: Купување на опрема и машини | F26: 1600000 | G26: 319325 | H26: =F26-G26 -> 1280675 | I26: =G26/F26*100 -> 19.957812
A27: 630 | B27: 23 | C27: СОБРАНИСКИ КАНАЛ | D27: 483 | E27: Купување на мебел | F27: 500000 | G27: 0 | H27: =F27-G27 -> 500000 | I27: =G27/F27*100 -> 0
A28: 630 | B28: 23 | C28: СОБРАНИСКИ КАНАЛ | D28: 485 | E28: Вложувања и нефинансиски средства | F28: 500000 | G28: 0 | H28: =F28-G28 -> 500000 | I28: =G28/F28*100 -> 0
A29: 25 | B29: 26 | C29: ПАРЛАМЕНТАРЕН ИНСТИТУТ | D29: 420 | E29: Патни и дневни расходи | F29: 2300000 | G29: 73960 | H29: =F29-G29 -> 2226040 | I29: =G29/F29*100 -> 3.2156522
A30: 630 | B30: 26 | C30: ПАРЛАМЕНТАРЕН ИНСТИТУТ | D30: 424 | E30: Поправки и тековно одржување | F30: 1500000 | G30: 72275 | H30: =F30-G30 -> 1427725 | I30: =G30/F30*100 -> 4.8183333
A31: 630 | B31: 26 | C31: ПАРЛАМЕНТАРЕН ИНСТИТУТ | D31: 425 | E31: Договорни услуги | F31: 2150000 | G31: 6960 | H31: =F31-G31 -> 2143040 | I31: =G31/F31*100 -> 0.32372093
A32: 630 | B32: 26 | C32: ПАРЛАМЕНТАРЕН ИНСТИТУТ | D32: 426 | E32: Други тековни расходи | F32: 1400000 | G32: 142792 | H32: =F32-G32 -> 1257208 | I32: =G32/F32*100 -> 10.199429
A33: 630 | B33: 26 | C33: ПАРЛАМЕНТАРЕН ИНСТИТУТ | D33: 485 | E33: Вложувања и нефинансиски средства | F33: 3000000 | G33: 0 | H33: =F33-G33 -> 3000000 | I33: =G33/F33*100 -> 0
A34: 630 | B34: 27 | C34: СОВЕТ ЗА ГРАЃАНСКИ НАДЗОР | D34: 420 | E34: Патни и дневни расходи | F34: 1000000 | G34: =[1]ПОСТАВКА!G150 -> 0 | H34: =F34-G34 -> 1000000 | I34: =G34/F34*100 -> 0
A35: 630 | B35: 27 | C35: СОВЕТ ЗА ГРАЃАНСКИ НАДЗОР | D35: 425 | E35: Договорни услуги | F35: 10000000 | G35: =[1]ПОСТАВКА!G152 -> 0 | H35: =F35-G35 -> 10000000 | I35: =G35/F35*100 -> 0
A36: 630 | B36: 27 | C36: СОВЕТ ЗА ГРАЃАНСКИ НАДЗОР | D36: 426 | E36: Други тековни расходи | F36: 2000000 | G36: 0 | H36: =F36-G36 -> 2000000 | I36: =G36/F36*100 -> 0
A37: 785 | B37: 28 | C37: ПРОГРАМА ЗА ПОДДРШКА НА ПАРЛАМЕНТОТ | D37: 420 | E37: Патни и дневни расходи | F37: 900000 | G37: 0 | H37: =F37-G37 -> 900000 | I37: =G37/F37*100 -> 0
A38: 785 | B38: 28 | C38: ПРОГРАМА ЗА ПОДДРШКА НА ПАРЛАМЕНТОТ | D38: 424 | E38: Поправки и тековно одржување | F38: 260000 | G38: 0 | H38: =F38-G38 -> 260000 | I38: =G38/F38*100 -> 0
A39: 785 | B39: 28 | C39: ПРОГРАМА ЗА ПОДДРШКА НА ПАРЛАМЕНТОТ | D39: 425 | E39: Договорни услуги | F39: 1400000 | G39: 0 | H39: =F39-G39 -> 1400000 | I39: =G39/F39*100 -> 0
A40: 785 | B40: 28 | C40: ПРОГРАМА ЗА ПОДДРШКА НА ПАРЛАМЕНТОТ | D40: 426 | E40: Други тековни расходи | F40: 300000 | G40: 0 | H40: =F40-G40 -> 300000 | I40: =G40/F40*100 -> 0
A41: 785 | B41: 28 | C41: ПРОГРАМА ЗА ПОДДРШКА НА ПАРЛАМЕНТОТ | D41: 427 | E41: Привремени вработувања | F41: 1090000 | G41: 463120 | H41: =F41-G41 -> 626880 | I41: =G41/F41*100 -> 42.488073
A42: 785 | B42: 28 | C42: ПРОГРАМА ЗА ПОДДРШКА НА ПАРЛАМЕНТОТ | D42: 480 | E42: Купување на опрема и машини | F42: 9600000 | G42: 0 | H42: =F42-G42 -> 9600000 | I42: =G42/F42*100 -> 0
A43: 785 | B43: 28 | C43: ПРОГРАМА ЗА ПОДДРШКА НА ПАРЛАМЕНТОТ | D43: 485 | E43: Вложувања и нефинансиски | F43: 5650000 | G43: 0 | H43: =F43-G43 -> 5650000 | I43: =G43/F43*100 -> 0
A44: ВКУПНО: | F44: =SUM(F3:F43) -> 1005900000 | G44: =SUM(G3:G43) -> 64546172 | H44: =SUM(F44-G44) -> 941353828 | I44: =G44/F44*100 -> 6.4167583
C46: Изработил:м-р Есма Алили
...

Sheet 28.02.2025
A1: БУЏЕТ РАЗДЕЛ 02001 СОБРАНИЕ НА РЕПУБЛИКА СЕВЕРНА МАКЕДОНИЈА 2025 ГОДИНА(состојба 01.01.2025-28.02.2025)
A2: Сметка | B2: Програма | D2: Поставка | F2: Буџет | G2: Реализирано | H2: Остаток | I2: Процент
A3: 630 | B3: 20 | C3: СОБРАНИЕ НА РЕПУБЛИКА СЕВЕРНА МАКЕДОНИЈА | D3: 401 | E3: Основни плати | F3: 494250000 | G3: 69322772 | H3: =F3:F44-G3:G44 -> 424927228 | I3: =G3/F3*100 -> 14.025852
A4: 630 | B4: 20 | C4: СОБРАНИЕ НА РЕПУБЛИКА СЕВЕРНА МАКЕДОНИЈА | D4: 402 | E4: Придонеси за социјално | F4: 193200000 | G4: 26969823 | H4: =F4-G4 -> 166230177 | I4: =G4/F4*100 -> 13.959536
A5: 630 | B5: 20 | C5: СОБРАНИЕ НА РЕПУБЛИКА СЕВЕРНА МАКЕДОНИЈА | D5: 404 | E5: Надоместоци | F5: 6000000 | G5: 0 | H5: =F5-G5 -> 6000000 | I5: =G5/F5*100 -> 0
A6: 630 | B6: 20 | C6: СОБРАНИЕ НА РЕПУБЛИКА СЕВЕРНА МАКЕДОНИЈА | D6: 420 | E6: Патни и дневни расходи | F6: 40000000 | G6: 8171728 | H6: =F6-G6 -> 31828272 | I6: =G6/F6*100 -> 20.42932
A7: 630 | B7: 20 | C7: СОБРАНИЕ НА РЕПУБЛИКА СЕВЕРНА МАКЕДОНИЈА | D7: 421 | E7: Комунални услуги, греење, | F7: 40000000 | G7: 6427566 | H7: =F7-G7 -> 33572434 | I7: =G7/F7*100 -> 16.068915
A8: 630 | B8: 20 | C8: СОБРАНИЕ НА РЕПУБЛИКА СЕВЕРНА МАКЕДОНИЈА | D8: 423 | E8: Материјали и ситен инвентар | F8: 15000000 | G8: 1184922 | H8: =F8-G8 -> 13815078 | I8: =G8/F8*100 -> 7.89948
A9: 630 | B9: 20 | C9: СОБРАНИЕ НА РЕПУБЛИКА СЕВЕРНА МАКЕДОНИЈА | D9: 424 | E9: Поправки и тековно одржување | F9: 25000000 | G9: 2509842 | H9: =F9-G9 -> 22490158 | I9: =G9/F9*100 -> 10.039368
A10: 630 | B10: 20 | C10: СОБРАНИЕ НА РЕПУБЛИКА СЕВЕРНА МАКЕДОНИЈА | D10: 425 | E10: Договорни услуги | F10: 15000000 | G10: 1099558 | H10: =F10-G10 -> 13900442 | I10: =G10/F10*100 -> 7.3303867
A11: 630 | B11: 20 | C11: СОБРАНИЕ НА РЕПУБЛИКА СЕВЕРНА МАКЕДОНИЈА | D11: 426 | E11: Други тековни расходи | F11: 25000000 | G11: 2431849 | H11: =F11-G11 -> 22568151 | I11: =G11/F11*100 -> 9.727396
A12: 630 | B12: 20 | C12: СОБРАНИЕ НА РЕПУБЛИКА СЕВЕРНА МАКЕДОНИЈА | D12: 427 | E12: Привремени вработувања | F12: 30700000 | G12: 4125411 | H12: =F12-G12 -> 26574589 | I12: =G12/F12*100 -> 13.437821
A13: 630 | B13: 20 | C13: СОБРАНИЕ НА РЕПУБЛИКА СЕВЕРНА МАКЕДОНИЈА | D13: 464 | E13: Разни трансфери | F13: 2000000 | G13: 234081 | H13: =F13-G13 -> 1765919 | I13: =G13/F13*100 -> 11.70405
A14: 630 | B14: 20 | C14: СОБРАНИЕ НА РЕПУБЛИКА СЕВЕРНА МАКЕДОНИЈА | D14: 480 | E14: Купување на опрема и машини | F14: 35400000 | G14: 414354 | H14: =F14-G14 -> 34985646 | I14: =G14/F14*100 -> 1.1704915
A15: 630 | B15: 20 | C15: СОБРАНИЕ НА РЕПУБЛИКА СЕВЕРНА МАКЕДОНИЈА | D15: 483 | E15: Купување на мебел | F15: 2000000 | G15: 0 | H15: =F15-G15 -> 2000000 | I15: =G15/F15*100 -> 0
A16: 630 | B16: 20 | C16: СОБРАНИЕ НА РЕПУБЛИКА СЕВЕРНА МАКЕДОНИЈА | D16: 485 | E16: Вложувања и нефинансиски средства | F16: 10500000 | G16: 0 | H16: =F16-G16 -> 10500000 | I16: =G16/F16*100 -> 0
A17: 630 | B17: 21 | C17: КОНТАКТИ СО ГРАЃАНИ | D17: 425 | E17: Договорни услуги | F17: 9000000 | G17: 649130 | H17: =F17-G17 -> 8350870 | I17: =G17/F17*100 -> 7.2125556
... A23: 630 | B23: 23 | C23: СОБРАНИСКИ КАНАЛ | D23: 424 | E23: Поправки и тековно одржување | F23: 2500000 | G23: 0 | H23: =F23-G23 -> 2500000 | I23: =G23/F23*100 -> 0
A24: 630 | B24: 23 | C24: СОБРАНИСКИ КАНАЛ | D24: 425 | E24: Договорни услуги | F24: 1500000 | G24: 46020 | H24: =F24-G24 -> 1453980 | I24: =G24/F24*100 -> 3.068
A25: 630 | B25: 23 | C25: СОБРАНИСКИ КАНАЛ | D25: 426 | E25: Други тековни расходи | F25: 1000000 | G25: 12000 | H25: =F25-G25 -> 988000 | I25: =G25/F25*100 -> 1.2
A26: 630 | B26: 23 | C26: СОБРАНИСКИ КАНАЛ | D26: 480 | E26: Купување на опрема и машини | F26: 1600000 | G26: 319325 | H26: =F26-G26 -> 1280675 | I26: =G26/F26*100 -> 19.957812
A27: 630 | B27: 23 | C27: СОБРАНИСКИ КАНАЛ | D27: 483 | E27: Купување на мебел | F27: 500000 | G27: 0 | H27: =F27-G27 -> 500000 | I27: =G27/F27*100 -> 0
A28: 630 | B28: 23 | C28: СОБРАНИСКИ КАНАЛ | D28: 485 | E28: Вложувања и нефинансиски средства | F28: 500000 | G28: 0 | H28: =F28-G28 -> 500000 | I28: =G28/F28*100 -> 0
A29: 25 | B29: 26 | C29: ПАРЛАМЕНТАРЕН ИНСТИТУТ | D29: 420 | E29: Патни и дневни расходи | F29: 2300000 | G29: 73960 | H29: =F29-G29 -> 2226040 | I29: =G29/F29*100 -> 3.2156522
A30: 630 | B30: 26 | C30: ПАРЛАМЕНТАРЕН ИНСТИТУТ | D30: 424 | E30: Поправки и тековно одржување | F30: 1500000 | G30: 107675 | H30: =F30-G30 -> 1392325 | I30: =G30/F30*100 -> 7.1783333
A31: 630 | B31: 26 | C31: ПАРЛАМЕНТАРЕН ИНСТИТУТ | D31: 425 | E31: Договорни услуги | F31: 2150000 | G31: 6960 | H31: =F31-G31 -> 2143040 | I31: =G31/F31*100 -> 0.32372093
A32: 630 | B32: 26 | C32: ПАРЛАМЕНТАРЕН ИНСТИТУТ | D32: 426 | E32: Други тековни расходи | F32: 1400000 | G32: 142792 | H32: =F32-G32 -> 1257208 | I32: =G32/F32*100 -> 10.199429
A33: 630 | B33: 26 | C33: ПАРЛАМЕНТАРЕН ИНСТИТУТ | D33: 485 | E33: Вложувања и нефинансиски средства | F33: 3000000 | G33: 0 | H33: =F33-G33 -> 3000000 | I33: =G33/F33*100 -> 0
A34: 630 | B34: 27 | C34: СОВЕТ ЗА ГРАЃАНСКИ НАДЗОР | D34: 420 | E34: Патни и дневни расходи | F34: 1000000 | G34: =[1]ПОСТАВКА!G150 -> 0 | H34: =F34-G34 -> 1000000 | I34: =G34/F34*100 -> 0
A35: 630 | B35: 27 | C35: СОВЕТ ЗА ГРАЃАНСКИ НАДЗОР | D35: 425 | E35: Договорни услуги | F35: 10000000 | G35: =[1]ПОСТАВКА!G152 -> 0 | H35: =F35-G35 -> 10000000 | I35: =G35/F35*100 -> 0
A36: 630 | B36: 27 | C36: СОВЕТ ЗА ГРАЃАНСКИ НАДЗОР | D36: 426 | E36: Други тековни расходи | F36: 2000000 | G36: 0 | H36: =F36-G36 -> 2000000 | I36: =G36/F36*100 -> 0
A37: 785 | B37: 28 | C37: ПРОГРАМА ЗА ПОДДРШКА НА ПАРЛАМЕНТОТ | D37: 420 | E37: Патни и дневни расходи | F37: 900000 | G37: 0 | H37: =F37-G37 -> 900000 | I37: =G37/F37*100 -> 0
A38: 785 | B38: 28 | C38: ПРОГРАМА ЗА ПОДДРШКА НА ПАРЛАМЕНТОТ | D38: 424 | E38: Поправки и тековно одржување | F38: 260000 | G38: 41666 | H38: =F38-G38 -> 218334 | I38: =G38/F38*100 -> 16.025385
A39: 785 | B39: 28 | C39: ПРОГРАМА ЗА ПОДДРШКА НА ПАРЛАМЕНТОТ | D39: 425 | E39: Договорни услуги | F39: 1400000 | G39: 0 | H39: =F39-G39 -> 1400000 | I39: =G39/F39*100 -> 0
A40: 785 | B40: 28 | C40: ПРОГРАМА ЗА ПОДДРШКА НА ПАРЛАМЕНТОТ | D40: 426 | E40: Други тековни расходи | F40: 300000 | G40: 77680 | H40: =F40-G40 -> 222320 | I40: =G40/F40*100 -> 25.893333
A41: 785 | B41: 28 | C41: ПРОГРАМА ЗА ПОДДРШКА НА ПАРЛАМЕНТОТ | D41: 427 | E41: Привремени вработувања | F41: 1090000 | G41: 926495 | H41: =F41-G41 -> 163505 | I41: =G41/F41*100 -> 84.999541
A42: 785 | B42: 28 | C42: ПРОГРАМА ЗА ПОДДРШКА НА ПАРЛАМЕНТОТ | D42: 480 | E42: Купување на опрема и машини | F42: 9600000 | G42: 0 | H42: =F42-G42 -> 9600000 | I42: =G42/F42*100 -> 0
A43: 785 | B43: 28 | C43: ПРОГРАМА ЗА ПОДДРШКА НА ПАРЛАМЕНТОТ | D43: 485 | E43: Вложувања и нефинансиски | F43: 5650000 | G43: 0 | H43: =F43-G43 -> 5650000 | I43: =G43/F43*100 -> 0
A44: ВКУПНО: | F44: =SUM(F3:F43) -> 1005900000 | G44: =SUM(G3:G43) -> 126515537 | H44: =SUM(F44-G44) -> 879384463 | I44: =G44/F44*100 -> 12.577347
C46: Изработил:м-р Есма Алили
...

Sheet 31.03.2025
A1: БУЏЕТ РАЗДЕЛ 02001 СОБРАНИЕ НА РЕПУБЛИКА СЕВЕРНА МАКЕДОНИЈА 2025 ГОДИНА(состојба 01.01.2025-31.03.2025)
A2: Сметка | B2: Програма | D2: Поставка | F2: Буџет | G2: Реализирано | H2: Остаток | I2: Процент
A3: 630 | B3: 20 | C3: СОБРАНИЕ НА РЕПУБЛИКА СЕВЕРНА МАКЕДОНИЈА | D3: 401 | E3: Основни плати | F3: 494250000 | G3: 104436092 | H3: =F3:F44-G3:G44 -> 389813908 | I3: =G3/F3*100 -> 21.130216
A4: 630 | B4: 20 | C4: СОБРАНИЕ НА РЕПУБЛИКА СЕВЕРНА МАКЕДОНИЈА | D4: 402 | E4: Придонеси за социјално | F4: 193200000 | G4: 40589207 | H4: =F4-G4 -> 152610793 | I4: =G4/F4*100 -> 21.008906
A5: 630 | B5: 20 | C5: СОБРАНИЕ НА РЕПУБЛИКА СЕВЕРНА МАКЕДОНИЈА | D5: 404 | E5: Надоместоци | F5: 6000000 | G5: 509467 | H5: =F5-G5 -> 5490533 | I5: =G5/F5*100 -> 8.4911167
A6: 630 | B6: 20 | C6: СОБРАНИЕ НА РЕПУБЛИКА СЕВЕРНА МАКЕДОНИЈА | D6: 420 | E6: Патни и дневни расходи | F6: 40000000 | G6: 11399956 | H6: =F6-G6 -> 28600044 | I6: =G6/F6*100 -> 28.49989
A7: 630 | B7: 20 | C7: СОБРАНИЕ НА РЕПУБЛИКА СЕВЕРНА МАКЕДОНИЈА | D7: 421 | E7: Комунални услуги, греење, | F7: 40000000 | G7: 12001033 | H7: =F7-G7 -> 27998967 | I7: =G7/F7*100 -> 30.002583
A8: 630 | B8: 20 | C8: СОБРАНИЕ НА РЕПУБЛИКА СЕВЕРНА МАКЕДОНИЈА | D8: 423 | E8: Материјали и ситен инвентар | F8: 15000000 | G8: 1974879 | H8: =F8-G8 -> 13025121 | I8: =G8/F8*100 -> 13.16586
A9: 630 | B9: 20 | C9: СОБРАНИЕ НА РЕПУБЛИКА СЕВЕРНА МАКЕДОНИЈА | D9: 424 | E9: Поправки и тековно одржување | F9: 25000000 | G9: 3717569 | H9: =F9-G9 -> 21282431 | I9: =G9/F9*100 -> 14.870276
A10: 630 | B10: 20 | C10: СОБРАНИЕ НА РЕПУБЛИКА СЕВЕРНА МАКЕДОНИЈА | D10: 425 | E10: Договорни услуги | F10: 15000000 | G10: 1669573 | H10: =F10-G10 -> 13330427 | I10: =G10/F10*100 -> 11.130487
A11: 630 | B11: 20 | C11: СОБРАНИЕ НА РЕПУБЛИКА СЕВЕРНА МАКЕДОНИЈА | D11: 426 | E11: Други тековни расходи | F11: 25000000 | G11: 5522499 | H11: =F11-G11 -> 19477501 | I11: =G11/F11*100 -> 22.089996
A12: 630 | B12: 20 | C12: СОБРАНИЕ НА РЕПУБЛИКА СЕВЕРНА МАКЕДОНИЈА | D12: 427 | E12: Привремени вработувања | F12: 30700000 | G12: 6499759 | H12: =F12-G12 -> 24200241 | I12: =G12/F12*100 -> 21.171853
A13: 630 | B13: 20 | C13: СОБРАНИЕ НА РЕПУБЛИКА СЕВЕРНА МАКЕДОНИЈА | D13: 464 | E13: Разни трансфери | F13: 2000000 | G13: 840813 | H13: =F13-G13 -> 1159187 | I13: =G13/F13*100 -> 42.04065
A14: 630 | B14: 20 | C14: СОБРАНИЕ НА РЕПУБЛИКА СЕВЕРНА МАКЕДОНИЈА | D14: 480 | E14: Купување на опрема и машини | F14: 35400000 | G14: 434429 | H14: =F14-G14 -> 34965571 | I14: =G14/F14*100 -> 1.2272006
A15: 630 | B15: 20 | C15: СОБРАНИЕ НА РЕПУБЛИКА СЕВЕРНА МАКЕДОНИЈА | D15: 483 | E15: Купување на мебел | F15: 2000000 | G15: 0 | H15: =F15-G15 -> 2000000 | I15: =G15/F15*100 -> 0
A16: 630 | B16: 20 | C16: СОБРАНИЕ НА РЕПУБЛИКА СЕВЕРНА МАКЕДОНИЈА | D16: 485 | E16: Вложувања и нефинансиски средства | F16: 10500000 | G16: 0 | H16: =F16-G16 -> 10500000 | I16: =G16/F16*100 -> 0
A17: 630 | B17: 21 | C17: КОНТАКТИ СО ГРАЃАНИ | D17: 425 | E17: Договорни услуги | F17: 9000000 | G17: 1019130 | H17: =F17-G17 -> 7980870 | I17: =G17/F17*100 -> 11.323667
... A23: 630 | B23: 23 | C23: СОБРАНИСКИ КАНАЛ | D23: 424 | E23: Поправки и тековно одржување | F23: 2500000 | G23: 0 | H23: =F23-G23 -> 2500000 | I23: =G23/F23*100 -> 0
A24: 630 | B24: 23 | C24: СОБРАНИСКИ КАНАЛ | D24: 425 | E24: Договорни услуги | F24: 1500000 | G24: 46020 | H24: =F24-G24 -> 1453980 | I24: =G24/F24*100 -> 3.068
A25: 630 | B25: 23 | C25: СОБРАНИСКИ КАНАЛ | D25: 426 | E25: Други тековни расходи | F25: 1000000 | G25: 12000 | H25: =F25-G25 -> 988000 | I25: =G25/F25*100 -> 1.2
A26: 630 | B26: 23 | C26: СОБРАНИСКИ КАНАЛ | D26: 480 | E26: Купување на опрема и машини | F26: 1600000 | G26: 319325 | H26: =F26-G26 -> 1280675 | I26: =G26/F26*100 -> 19.957812
A27: 630 | B27: 23 | C27: СОБРАНИСКИ КАНАЛ | D27: 483 | E27: Купување на мебел | F27: 500000 | G27: 0 | H27: =F27-G27 -> 500000 | I27: =G27/F27*100 -> 0
A28: 630 | B28: 23 | C28: СОБРАНИСКИ КАНАЛ | D28: 485 | E28: Вложувања и нефинансиски средства | F28: 500000 | G28: 0 | H28: =F28-G28 -> 500000 | I28: =G28/F28*100 -> 0
A29: 25 | B29: 26 | C29: ПАРЛАМЕНТАРЕН ИНСТИТУТ | D29: 420 | E29: Патни и дневни расходи | F29: 2300000 | G29: 95042 | H29: =F29-G29 -> 2204958 | I29: =G29/F29*100 -> 4.1322609
A30: 630 | B30: 26 | C30: ПАРЛАМЕНТАРЕН ИНСТИТУТ | D30: 424 | E30: Поправки и тековно одржување | F30: 1500000 | G30: 216825 | H30: =F30-G30 -> 1283175 | I30: =G30/F30*100 -> 14.455
A31: 630 | B31: 26 | C31: ПАРЛАМЕНТАРЕН ИНСТИТУТ | D31: 425 | E31: Договорни услуги | F31: 2150000 | G31: 60523 | H31: =F31-G31 -> 2089477 | I31: =G31/F31*100 -> 2.8150233
A32: 630 | B32: 26 | C32: ПАРЛАМЕНТАРЕН ИНСТИТУТ | D32: 426 | E32: Други тековни расходи | F32: 1400000 | G32: 179444 | H32: =F32-G32 -> 1220556 | I32: =G32/F32*100 -> 12.817429
A33: 630 | B33: 26 | C33: ПАРЛАМЕНТАРЕН ИНСТИТУТ | D33: 485 | E33: Вложувања и нефинансиски средства | F33: 3000000 | G33: 0 | H33: =F33-G33 -> 3000000 | I33: =G33/F33*100 -> 0
A34: 630 | B34: 27 | C34: СОВЕТ ЗА ГРАЃАНСКИ НАДЗОР | D34: 420 | E34: Патни и дневни расходи | F34: 1000000 | G34: =[1]ПОСТАВКА!G150 -> 0 | H34: =F34-G34 -> 1000000 | I34: =G34/F34*100 -> 0
A35: 630 | B35: 27 | C35: СОВЕТ ЗА ГРАЃАНСКИ НАДЗОР | D35: 425 | E35: Договорни услуги | F35: 10000000 | G35: =[1]ПОСТАВКА!G152 -> 0 | H35: =F35-G35 -> 10000000 | I35: =G35/F35*100 -> 0
A36: 630 | B36: 27 | C36: СОВЕТ ЗА ГРАЃАНСКИ НАДЗОР | D36: 426 | E36: Други тековни расходи | F36: 2000000 | G36: 0 | H36: =F36-G36 -> 2000000 | I36: =G36/F36*100 -> 0
A37: 785 | B37: 28 | C37: ПРОГРАМА ЗА ПОДДРШКА НА ПАРЛАМЕНТОТ | D37: 420 | E37: Патни и дневни расходи | F37: 900000 | G37: 518941 | H37: =F37-G37 -> 381059 | I37: =G37/F37*100 -> 57.660111
A38: 785 | B38: 28 | C38: ПРОГРАМА ЗА ПОДДРШКА НА ПАРЛАМЕНТОТ | D38: 424 | E38: Поправки и тековно одржување | F38: 260000 | G38: 41666 | H38: =F38-G38 -> 218334 | I38: =G38/F38*100 -> 16.025385
A39: 785 | B39: 28 | C39: ПРОГРАМА ЗА ПОДДРШКА НА ПАРЛАМЕНТОТ | D39: 425 | E39: Договорни услуги | F39: 1400000 | G39: 0 | H39: =F39-G39 -> 1400000 | I39: =G39/F39*100 -> 0
A40: 785 | B40: 28 | C40: ПРОГРАМА ЗА ПОДДРШКА НА ПАРЛАМЕНТОТ | D40: 426 | E40: Други тековни расходи | F40: 300000 | G40: 77680 | H40: =F40-G40 -> 222320 | I40: =G40/F40*100 -> 25.893333
A41: 785 | B41: 28 | C41: ПРОГРАМА ЗА ПОДДРШКА НА ПАРЛАМЕНТОТ | D41: 427 | E41: Привремени вработувања | F41: 1090000 | G41: 926495 | H41: =F41-G41 -> 163505 | I41: =G41/F41*100 -> 84.999541
A42: 785 | B42: 28 | C42: ПРОГРАМА ЗА ПОДДРШКА НА ПАРЛАМЕНТОТ | D42: 480 | E42: Купување на опрема и машини | F42: 9600000 | G42: 0 | H42: =F42-G42 -> 9600000 | I42: =G42/F42*100 -> 0
A43: 785 | B43: 28 | C43: ПРОГРАМА ЗА ПОДДРШКА НА ПАРЛАМЕНТОТ | D43: 485 | E43: Вложувања и нефинансиски | F43: 5650000 | G43: 0 | H43: =F43-G43 -> 5650000 | I43: =G43/F43*100 -> 0
A44: ВКУПНО: | F44: =SUM(F3:F43) -> 1005900000 | G44: =SUM(G3:G43) -> 194355671 | H44: =SUM(F44-G44) -> 811544329 | I44: =G44/F44*100 -> 19.32157
C46: Изработил:м-р Есма Алили
...

Sheet 30.04.2025
A1: БУЏЕТ РАЗДЕЛ 02001 СОБРАНИЕ НА РЕПУБЛИКА СЕВЕРНА МАКЕДОНИЈА 2025 ГОДИНА(состојба 01.01.2025-30.04.2025)
A2: Сметка | B2: Програма | D2: Поставка | F2: Буџет | G2: Реализирано | H2: Остаток | I2: Процент
A3: 630 | B3: 20 | C3: СОБРАНИЕ НА РЕПУБЛИКА СЕВЕРНА МАКЕДОНИЈА | D3: 401 | E3: Основни плати | F3: 494250000 | G3: 140838574 | H3: =F3:F44-G3:G44 -> 353411426 | I3: =G3/F3*100 -> 28.495412
A4: 630 | B4: 20 | C4: СОБРАНИЕ НА РЕПУБЛИКА СЕВЕРНА МАКЕДОНИЈА | D4: 402 | E4: Придонеси за социјално | F4: 193200000 | G4: 54737088 | H4: =F4-G4 -> 138462912 | I4: =G4/F4*100 -> 28.331826
A5: 630 | B5: 20 | C5: СОБРАНИЕ НА РЕПУБЛИКА СЕВЕРНА МАКЕДОНИЈА | D5: 404 | E5: Надоместоци | F5: 6000000 | G5: 509467 | H5: =F5-G5 -> 5490533 | I5: =G5/F5*100 -> 8.4911167
A6: 630 | B6: 20 | C6: СОБРАНИЕ НА РЕПУБЛИКА СЕВЕРНА МАКЕДОНИЈА | D6: 420 | E6: Патни и дневни расходи | F6: 40000000 | G6: 13723535 | H6: =F6-G6 -> 26276465 | I6: =G6/F6*100 -> 34.308838
A7: 630 | B7: 20 | C7: СОБРАНИЕ НА РЕПУБЛИКА СЕВЕРНА МАКЕДОНИЈА | D7: 421 | E7: Комунални услуги, греење, | F7: 40000000 | G7: 13695891 | H7: =F7-G7 -> 26304109 | I7: =G7/F7*100 -> 34.239728
A8: 630 | B8: 20 | C8: СОБРАНИЕ НА РЕПУБЛИКА СЕВЕРНА МАКЕДОНИЈА | D8: 423 | E8: Материјали и ситен инвентар | F8: 15000000 | G8: 2286673 | H8: =F8-G8 -> 12713327 | I8: =G8/F8*100 -> 15.244487
A9: 630 | B9: 20 | C9: СОБРАНИЕ НА РЕПУБЛИКА СЕВЕРНА МАКЕДОНИЈА | D9: 424 | E9: Поправки и тековно одржување | F9: 25000000 | G9: 5538804 | H9: =F9-G9 -> 19461196 | I9: =G9/F9*100 -> 22.155216
A10: 630 | B10: 20 | C10: СОБРАНИЕ НА РЕПУБЛИКА СЕВЕРНА МАКЕДОНИЈА | D10: 425 | E10: Договорни услуги | F10: 15000000 | G10: 2166673 | H10: =F10-G10 -> 12833327 | I10: =G10/F10*100 -> 14.444487
A11: 630 | B11: 20 | C11: СОБРАНИЕ НА РЕПУБЛИКА СЕВЕРНА МАКЕДОНИЈА | D11: 426 | E11: Други тековни расходи | F11: 25000000 | G11: 7008869 | H11: =F11-G11 -> 17991131 | I11: =G11/F11*100 -> 28.035476
A12: 630 | B12: 20 | C12: СОБРАНИЕ НА РЕПУБЛИКА СЕВЕРНА МАКЕДОНИЈА | D12: 427 | E12: Привремени вработувања | F12: 30700000 | G12: 8675683 | H12: =F12-G12 -> 22024317 | I12: =G12/F12*100 -> 28.259554
A13: 630 | B13: 20 | C13: СОБРАНИЕ НА РЕПУБЛИКА СЕВЕРНА МАКЕДОНИЈА | D13: 464 | E13: Разни трансфери | F13: 2000000 | G13: 840813 | H13: =F13-G13 -> 1159187 | I13: =G13/F13*100 -> 42.04065
A14: 630 | B14: 20 | C14: СОБРАНИЕ НА РЕПУБЛИКА СЕВЕРНА МАКЕДОНИЈА | D14: 480 | E14: Купување на опрема и машини | F14: 35400000 | G14: 1930043 | H14: =F14-G14 -> 33469957 | I14: =G14/F14*100 -> 5.4520989
A15: 630 | B15: 20 | C15: СОБРАНИЕ НА РЕПУБЛИКА СЕВЕРНА МАКЕДОНИЈА | D15: 483 | E15: Купување на мебел | F15: 2000000 | G15: 0 | H15: =F15-G15 -> 2000000 | I15: =G15/F15*100 -> 0
A16: 630 | B16: 20 | C16: СОБРАНИЕ НА РЕПУБЛИКА СЕВЕРНА МАКЕДОНИЈА | D16: 485 | E16: Вложувања и нефинансиски средства | F16: 10500000 | G16: 0 | H16: =F16-G16 -> 10500000 | I16: =G16/F16*100 -> 0
A17: 630 | B17: 21 | C17: КОНТАКТИ СО ГРАЃАНИ | D17: 425 | E17: Договорни услуги | F17: 9000000 | G17: 1400559 | H17: =F17-G17 -> 7599441 | I17: =G17/F17*100 -> 15.561767
... A23: 630 | B23: 23 | C23: СОБРАНИСКИ КАНАЛ | D23: 424 | E23: Поправки и тековно одржување | F23: 2500000 | G23: 0 | H23: =F23-G23 -> 2500000 | I23: =G23/F23*100 -> 0
A24: 630 | B24: 23 | C24: СОБРАНИСКИ КАНАЛ | D24: 425 | E24: Договорни услуги | F24: 1500000 | G24: 48745 | H24: =F24-G24 -> 1451255 | I24: =G24/F24*100 -> 3.2496667
A25: 630 | B25: 23 | C25: СОБРАНИСКИ КАНАЛ | D25: 426 | E25: Други тековни расходи | F25: 1000000 | G25: 12000 | H25: =F25-G25 -> 988000 | I25: =G25/F25*100 -> 1.2
A26: 630 | B26: 23 | C26: СОБРАНИСКИ КАНАЛ | D26: 480 | E26: Купување на опрема и машини | F26: 1600000 | G26: 319325 | H26: =F26-G26 -> 1280675 | I26: =G26/F26*100 -> 19.957812
A27: 630 | B27: 23 | C27: СОБРАНИСКИ КАНАЛ | D27: 483 | E27: Купување на мебел | F27: 500000 | G27: 0 | H27: =F27-G27 -> 500000 | I27: =G27/F27*100 -> 0
A28: 630 | B28: 23 | C28: СОБРАНИСКИ КАНАЛ | D28: 485 | E28: Вложувања и нефинансиски средства | F28: 500000 | G28: 0 | H28: =F28-G28 -> 500000 | I28: =G28/F28*100 -> 0
A29: 25 | B29: 26 | C29: ПАРЛАМЕНТАРЕН ИНСТИТУТ | D29: 420 | E29: Патни и дневни расходи | F29: 2300000 | G29: 195042 | H29: =F29-G29 -> 2104958 | I29: =G29/F29*100 -> 8.480087
A30: 630 | B30: 26 | C30: ПАРЛАМЕНТАРЕН ИНСТИТУТ | D30: 424 | E30: Поправки и тековно одржување | F30: 1500000 | G30: 289100 | H30: =F30-G30 -> 1210900 | I30: =G30/F30*100 -> 19.273333
A31: 630 | B31: 26 | C31: ПАРЛАМЕНТАРЕН ИНСТИТУТ | D31: 425 | E31: Договорни услуги | F31: 2150000 | G31: 143123 | H31: =F31-G31 -> 2006877 | I31: =G31/F31*100 -> 6.6568837
A32: 630 | B32: 26 | C32: ПАРЛАМЕНТАРЕН ИНСТИТУТ | D32: 426 | E32: Други тековни расходи | F32: 1400000 | G32: 179444 | H32: =F32-G32 -> 1220556 | I32: =G32/F32*100 -> 12.817429
A33: 630 | B33: 26 | C33: ПАРЛАМЕНТАРЕН ИНСТИТУТ | D33: 485 | E33: Вложувања и нефинансиски средства | F33: 3000000 | G33: 0 | H33: =F33-G33 -> 3000000 | I33: =G33/F33*100 -> 0
A34: 630 | B34: 27 | C34: СОВЕТ ЗА ГРАЃАНСКИ НАДЗОР | D34: 420 | E34: Патни и дневни расходи | F34: 1000000 | G34: =[1]ПОСТАВКА!G150 -> 0 | H34: =F34-G34 -> 1000000 | I34: =G34/F34*100 -> 0
A35: 630 | B35: 27 | C35: СОВЕТ ЗА ГРАЃАНСКИ НАДЗОР | D35: 425 | E35: Договорни услуги | F35: 10000000 | G35: =[1]ПОСТАВКА!G152 -> 0 | H35: =F35-G35 -> 10000000 | I35: =G35/F35*100 -> 0
A36: 630 | B36: 27 | C36: СОВЕТ ЗА ГРАЃАНСКИ НАДЗОР | D36: 426 | E36: Други тековни расходи | F36: 2000000 | G36: 0 | H36: =F36-G36 -> 2000000 | I36: =G36/F36*100 -> 0
A37: 785 | B37: 28 | C37: ПРОГРАМА ЗА ПОДДРШКА НА ПАРЛАМЕНТОТ | D37: 420 | E37: Патни и дневни расходи | F37: 900000 | G37: 518941 | H37: =F37-G37 -> 381059 | I37: =G37/F37*100 -> 57.660111
A38: 785 | B38: 28 | C38: ПРОГРАМА ЗА ПОДДРШКА НА ПАРЛАМЕНТОТ | D38: 424 | E38: Поправки и тековно одржување | F38: 260000 | G38: 62499 | H38: =F38-G38 -> 197501 | I38: =G38/F38*100 -> 24.038077
A39: 785 | B39: 28 | C39: ПРОГРАМА ЗА ПОДДРШКА НА ПАРЛАМЕНТОТ | D39: 425 | E39: Договорни услуги | F39: 1400000 | G39: 0 | H39: =F39-G39 -> 1400000 | I39: =G39/F39*100 -> 0
A40: 785 | B40: 28 | C40: ПРОГРАМА ЗА ПОДДРШКА НА ПАРЛАМЕНТОТ | D40: 426 | E40: Други тековни расходи | F40: 300000 | G40: 77680 | H40: =F40-G40 -> 222320 | I40: =G40/F40*100 -> 25.893333
A41: 785 | B41: 28 | C41: ПРОГРАМА ЗА ПОДДРШКА НА ПАРЛАМЕНТОТ | D41: 427 | E41: Привремени вработувања | F41: 1090000 | G41: 926495 | H41: =F41-G41 -> 163505 | I41: =G41/F41*100 -> 84.999541
A42: 785 | B42: 28 | C42: ПРОГРАМА ЗА ПОДДРШКА НА ПАРЛАМЕНТОТ | D42: 480 | E42: Купување на опрема и машини | F42: 9600000 | G42: 0 | H42: =F42-G42 -> 9600000 | I42: =G42/F42*100 -> 0
A43: 785 | B43: 28 | C43: ПРОГРАМА ЗА ПОДДРШКА НА ПАРЛАМЕНТОТ | D43: 485 | E43: Вложувања и нефинансиски | F43: 5650000 | G43: 0 | H43: =F43-G43 -> 5650000 | I43: =G43/F43*100 -> 0
A44: ВКУПНО: | F44: =SUM(F3:F43) -> 1005900000 | G44: =SUM(G3:G43) -> 257418476 | H44: =SUM(F44-G44) -> 748481524 | I44: =G44/F44*100 -> 25.590862
C46: Изработил:м-р Есма Алили
...

Sheet 31.05.2025
A1: БУЏЕТ РАЗДЕЛ 02001 СОБРАНИЕ НА РЕПУБЛИКА СЕВЕРНА МАКЕДОНИЈА 2025 ГОДИНА(состојба 01.01.2025-31.05.2025)
A2: Сметка | B2: Програма | D2: Поставка | F2: Буџет | G2: Реализирано | H2: Остаток | I2: Процент
A3: 630 | B3: 20 | C3: СОБРАНИЕ НА РЕПУБЛИКА СЕВЕРНА МАКЕДОНИЈА | D3: 401 | E3: Основни плати | F3: 494250000 | G3: 177241295 | H3: =F3:F44-G3:G44 -> 317008705 | I3: =G3/F3*100 -> 35.860657
A4: 630 | B4: 20 | C4: СОБРАНИЕ НА РЕПУБЛИКА СЕВЕРНА МАКЕДОНИЈА | D4: 402 | E4: Придонеси за социјално | F4: 193200000 | G4: 68893693 | H4: =F4-G4 -> 124306307 | I4: =G4/F4*100 -> 35.659261
A5: 630 | B5: 20 | C5: СОБРАНИЕ НА РЕПУБЛИКА СЕВЕРНА МАКЕДОНИЈА | D5: 404 | E5: Надоместоци | F5: 6000000 | G5: 509467 | H5: =F5-G5 -> 5490533 | I5: =G5/F5*100 -> 8.4911167
A6: 630 | B6: 20 | C6: СОБРАНИЕ НА РЕПУБЛИКА СЕВЕРНА МАКЕДОНИЈА | D6: 420 | E6: Патни и дневни расходи | F6: 40000000 | G6: 20810831 | H6: =F6-G6 -> 19189169 | I6: =G6/F6*100 -> 52.027077
A7: 630 | B7: 20 | C7: СОБРАНИЕ НА РЕПУБЛИКА СЕВЕРНА МАКЕДОНИЈА | D7: 421 | E7: Комунални услуги, греење, | F7: 40000000 | G7: 17103349 | H7: =F7-G7 -> 22896651 | I7: =G7/F7*100 -> 42.758373
A8: 630 | B8: 20 | C8: СОБРАНИЕ НА РЕПУБЛИКА СЕВЕРНА МАКЕДОНИЈА | D8: 423 | E8: Материјали и ситен инвентар | F8: 15000000 | G8: 2713331 | H8: =F8-G8 -> 12286669 | I8: =G8/F8*100 -> 18.088873
A9: 630 | B9: 20 | C9: СОБРАНИЕ НА РЕПУБЛИКА СЕВЕРНА МАКЕДОНИЈА | D9: 424 | E9: Поправки и тековно одржување | F9: 25000000 | G9: 6571984 | H9: =F9-G9 -> 18428016 | I9: =G9/F9*100 -> 26.287936
A10: 630 | B10: 20 | C10: СОБРАНИЕ НА РЕПУБЛИКА СЕВЕРНА МАКЕДОНИЈА | D10: 425 | E10: Договорни услуги | F10: 15000000 | G10: 2724920 | H10: =F10-G10 -> 12275080 | I10: =G10/F10*100 -> 18.166133
A11: 630 | B11: 20 | C11: СОБРАНИЕ НА РЕПУБЛИКА СЕВЕРНА МАКЕДОНИЈА | D11: 426 | E11: Други тековни расходи | F11: 25000000 | G11: 8672615 | H11: =F11-G11 -> 16327385 | I11: =G11/F11*100 -> 34.69046
A12: 630 | B12: 20 | C12: СОБРАНИЕ НА РЕПУБЛИКА СЕВЕРНА МАКЕДОНИЈА | D12: 427 | E12: Привремени вработувања | F12: 30700000 | G12: 10890073 | H12: =F12-G12 -> 19809927 | I12: =G12/F12*100 -> 35.47255
A13: 630 | B13: 20 | C13: СОБРАНИЕ НА РЕПУБЛИКА СЕВЕРНА МАКЕДОНИЈА | D13: 464 | E13: Разни трансфери | F13: 2000000 | G13: 975507 | H13: =F13-G13 -> 1024493 | I13: =G13/F13*100 -> 48.77535
A14: 630 | B14: 20 | C14: СОБРАНИЕ НА РЕПУБЛИКА СЕВЕРНА МАКЕДОНИЈА | D14: 480 | E14: Купување на опрема и машини | F14: 35400000 | G14: 1930043 | H14: =F14-G14 -> 33469957 | I14: =G14/F14*100 -> 5.4520989
A15: 630 | B15: 20 | C15: СОБРАНИЕ НА РЕПУБЛИКА СЕВЕРНА МАКЕДОНИЈА | D15: 483 | E15: Купување на мебел | F15: 2000000 | G15: 0 | H15: =F15-G15 -> 2000000 | I15: =G15/F15*100 -> 0
A16: 630 | B16: 20 | C16: СОБРАНИЕ НА РЕПУБЛИКА СЕВЕРНА МАКЕДОНИЈА | D16: 485 | E16: Вложувања и нефинансиски средства | F16: 10500000 | G16: 0 | H16: =F16-G16 -> 10500000 | I16: =G16/F16*100 -> 0
A17: 630 | B17: 21 | C17: КОНТАКТИ СО ГРАЃАНИ | D17: 425 | E17: Договорни услуги | F17: 9000000 | G17: 1821923 | H17: =F17-G17 -> 7178077 | I17: =G17/F17*100 -> 20.243589
... A23: 630 | B23: 23 | C23: СОБРАНИСКИ КАНАЛ | D23: 424 | E23: Поправки и тековно одржување | F23: 2500000 | G23: 0 | H23: =F23-G23 -> 2500000 | I23: =G23/F23*100 -> 0
A24: 630 | B24: 23 | C24: СОБРАНИСКИ КАНАЛ | D24: 425 | E24: Договорни услуги | F24: 1500000 | G24: 86898 | H24: =F24-G24 -> 1413102 | I24: =G24/F24*100 -> 5.7932
A25: 630 | B25: 23 | C25: СОБРАНИСКИ КАНАЛ | D25: 426 | E25: Други тековни расходи | F25: 1000000 | G25: 12000 | H25: =F25-G25 -> 988000 | I25: =G25/F25*100 -> 1.2
A26: 630 | B26: 23 | C26: СОБРАНИСКИ КАНАЛ | D26: 480 | E26: Купување на опрема и машини | F26: 1600000 | G26: 319325 | H26: =F26-G26 -> 1280675 | I26: =G26/F26*100 -> 19.957812
A27: 630 | B27: 23 | C27: СОБРАНИСКИ КАНАЛ | D27: 483 | E27: Купување на мебел | F27: 500000 | G27: 0 | H27: =F27-G27 -> 500000 | I27: =G27/F27*100 -> 0
A28: 630 | B28: 23 | C28: СОБРАНИСКИ КАНАЛ | D28: 485 | E28: Вложувања и нефинансиски средства | F28: 500000 | G28: 0 | H28: =F28-G28 -> 500000 | I28: =G28/F28*100 -> 0
A29: 25 | B29: 26 | C29: ПАРЛАМЕНТАРЕН ИНСТИТУТ | D29: 420 | E29: Патни и дневни расходи | F29: 2300000 | G29: 230242 | H29: =F29-G29 -> 2069758 | I29: =G29/F29*100 -> 10.010522
A30: 630 | B30: 26 | C30: ПАРЛАМЕНТАРЕН ИНСТИТУТ | D30: 424 | E30: Поправки и тековно одржување | F30: 1500000 | G30: 361375 | H30: =F30-G30 -> 1138625 | I30: =G30/F30*100 -> 24.091667
A31: 630 | B31: 26 | C31: ПАРЛАМЕНТАРЕН ИНСТИТУТ | D31: 425 | E31: Договорни услуги | F31: 2150000 | G31: 143123 | H31: =F31-G31 -> 2006877 | I31: =G31/F31*100 -> 6.6568837
A32: 630 | B32: 26 | C32: ПАРЛАМЕНТАРЕН ИНСТИТУТ | D32: 426 | E32: Други тековни расходи | F32: 1400000 | G32: 265241 | H32: =F32-G32 -> 1134759 | I32: =G32/F32*100 -> 18.945786
A33: 630 | B33: 26 | C33: ПАРЛАМЕНТАРЕН ИНСТИТУТ | D33: 485 | E33: Вложувања и нефинансиски средства | F33: 3000000 | G33: 0 | H33: =F33-G33 -> 3000000 | I33: =G33/F33*100 -> 0
A34: 630 | B34: 27 | C34: СОВЕТ ЗА ГРАЃАНСКИ НАДЗОР | D34: 420 | E34: Патни и дневни расходи | F34: 1000000 | G34: =[1]ПОСТАВКА!G150 -> 0 | H34: =F34-G34 -> 1000000 | I34: =G34/F34*100 -> 0
A35: 630 | B35: 27 | C35: СОВЕТ ЗА ГРАЃАНСКИ НАДЗОР | D35: 425 | E35: Договорни услуги | F35: 10000000 | G35: =[1]ПОСТАВКА!G152 -> 0 | H35: =F35-G35 -> 10000000 | I35: =G35/F35*100 -> 0
A36: 630 | B36: 27 | C36: СОВЕТ ЗА ГРАЃАНСКИ НАДЗОР | D36: 426 | E36: Други тековни расходи | F36: 2000000 | G36: 0 | H36: =F36-G36 -> 2000000 | I36: =G36/F36*100 -> 0
A37: 785 | B37: 28 | C37: ПРОГРАМА ЗА ПОДДРШКА НА ПАРЛАМЕНТОТ | D37: 420 | E37: Патни и дневни расходи | F37: 900000 | G37: 518941 | H37: =F37-G37 -> 381059 | I37: =G37/F37*100 -> 57.660111
A38: 785 | B38: 28 | C38: ПРОГРАМА ЗА ПОДДРШКА НА ПАРЛАМЕНТОТ | D38: 424 | E38: Поправки и тековно одржување | F38: 260000 | G38: 62499 | H38: =F38-G38 -> 197501 | I38: =G38/F38*100 -> 24.038077
A39: 785 | B39: 28 | C39: ПРОГРАМА ЗА ПОДДРШКА НА ПАРЛАМЕНТОТ | D39: 425 | E39: Договорни услуги | F39: 1400000 | G39: 0 | H39: =F39-G39 -> 1400000 | I39: =G39/F39*100 -> 0
A40: 785 | B40: 28 | C40: ПРОГРАМА ЗА ПОДДРШКА НА ПАРЛАМЕНТОТ | D40: 426 | E40: Други тековни расходи | F40: 300000 | G40: 77680 | H40: =F40-G40 -> 222320 | I40: =G40/F40*100 -> 25.893333
A41: 785 | B41: 28 | C41: ПРОГРАМА ЗА ПОДДРШКА НА ПАРЛАМЕНТОТ | D41: 427 | E41: Привремени вработувања | F41: 1090000 | G41: 926495 | H41: =F41-G41 -> 163505 | I41: =G41/F41*100 -> 84.999541
A42: 785 | B42: 28 | C42: ПРОГРАМА ЗА ПОДДРШКА НА ПАРЛАМЕНТОТ | D42: 480 | E42: Купување на опрема и машини | F42: 9600000 | G42: 0 | H42: =F42-G42 -> 9600000 | I42: =G42/F42*100 -> 0
A43: 785 | B43: 28 | C43: ПРОГРАМА ЗА ПОДДРШКА НА ПАРЛАМЕНТОТ | D43: 485 | E43: Вложувања и нефинансиски | F43: 5650000 | G43: 0 | H43: =F43-G43 -> 5650000 | I43: =G43/F43*100 -> 0
A44: ВКУПНО: | F44: =SUM(F3:F43) -> 1005900000 | G44: =SUM(G3:G43) -> 325338806 | H44: =SUM(F44-G44) -> 680561194 | I44: =G44/F44*100 -> 32.343057
C46: Изработил:м-р Есма Алили
...

Sheet буџет со ребаланс
A1: БУЏЕТ РАЗДЕЛ 02001 СОБРАНИЕ НА РЕПУБЛИКА СЕВЕРНА МАКЕДОНИЈА 2025 ГОДИНА (реализација до 18.06.2025 година)
A2: Програма | C2: Поставка | E2: Буџет | F2: Буџет со ребаланс | G2: Реализирано | H2: Остаток | I2: Процент | J2: Намалување | K2: Зголемување | L2: Образложение за зголемувањето/намалувањето
A3: 20 | B3: СОБРАНИЕ НА РСМ | C3: 401 | D3: Основни плати | E3: 494250000 | F3: =E3-J3 -> 423750000 | G3: 213038725 | H3: =F3-G3 -> 210711275 | I3: =G3/F3*100 -> 50.274625 | J3: 70500000
A4: 20 | B4: СОБРАНИЕ НА РСМ | C4: 402 | D4: Придонеси за социјално | E4: 193200000 | F4: =E4-J4 -> 164900000 | G4: 82828317 | H4: =F4-G4 -> 82071683 | I4: =G4/F4*100 -> 50.229422 | J4: 28300000
A5: 20 | B5: СОБРАНИЕ НА РСМ | C5: 404 | D5: Надоместоци | E5: 6000000 | F5: 6000000 | G5: 509467 | H5: =E5-G5 -> 5490533 | I5: =G5/F5*100 -> 8.4911167
A6: 20 | B6: СОБРАНИЕ НА РСМ | C6: 420 | D6: Патни и дневни расходи | E6: 40000000 | F6: 40000000 | G6: 22730940 | H6: =E6-G6 -> 17269060 | I6: =G6/F6*100 -> 56.82735
A7: 20 | B7: СОБРАНИЕ НА РСМ | C7: 421 | D7: Комунални услуги, греење, | E7: 40000000 | F7: 40000000 | G7: 17801502 | H7: =E7-G7 -> 22198498 | I7: =G7/F7*100 -> 44.503755
A8: 20 | B8: СОБРАНИЕ НА РСМ | C8: 423 | D8: Материјали и ситен инвентар | E8: 15000000 | F8: 15000000 | G8: 3031874 | H8: =E8-G8 -> 11968126 | I8: =G8/F8*100 -> 20.212493
A9: 20 | B9: СОБРАНИЕ НА РСМ | C9: 424 | D9: Поправки и тековно одржување | E9: 25000000 | F9: 25000000 | G9: 9931203 | H9: =E9-G9 -> 15068797 | I9: =G9/F9*100 -> 39.724812
A10: 20 | B10: СОБРАНИЕ НА РСМ | C10: 425 | D10: Договорни услуги | E10: 13000000 | F10: 13000000 | G10: 3777860 | H10: =E10-G10 -> 9222140 | I10: =G10/F10*100 -> 29.060462
A11: 20 | B11: СОБРАНИЕ НА РСМ | C11: 426 | D11: Други тековни расходи | E11: 25000000 | F11: 25000000 | G11: 13643890 | H11: =E11-G11 -> 11356110 | I11: =G11/F11*100 -> 54.57556
A12: 20 | B12: СОБРАНИЕ НА РСМ | C12: 427 | D12: Привремени вработувања | E12: 30700000 | F12: 30700000 | G12: 13120640 | H12: =E12-G12 -> 17579360 | I12: =G12/F12*100 -> 42.738241
A13: 20 | B13: СОБРАНИЕ НА РСМ | C13: 464 | D13: Разни трансфери | E13: =[2]ПОСТАВКА!F84 -> 2000000 | F13: 2000000 | G13: 1087289 | H13: =E13-G13 -> 912711 | I13: =G13/F13*100 -> 54.36445
A14: 20 | B14: СОБРАНИЕ НА РСМ | C14: 480 | D14: Купување на опрема и машини | E14: 35400000 | F14: =E14+K14 -> 45900000 | G14: 1930043 | H14: =F14-G14 -> 43969957 | I14: =G14/F14*100 -> 4.2048867 | K14: 10500000 | L14: Сектор за ИКТ 7.000.000 Опрема за ПРЕС ЦЕНТАР - лед екран со процесор и работни станици + барање за зголемување на други набавки за нови вработувања
A15: 20 | B15: СОБРАНИЕ НА РСМ | C15: 483 | D15: Купување на мебел | E15: 2000000 | F15: 2000000 | G15: =[3]ПОСТАВКА!G94 -> 0 | H15: =E15-G15 -> 2000000 | I15: =G15/F15*100 -> 0
A16: 20 | B16: СОБРАНИЕ НА РСМ | C16: 485 | D16: Вложувања и нефинансиски средства | E16: 10500000 | F16: 10500000 | G16: =[3]ПОСТАВКА!G97 -> 0 | H16: =E16-G16 -> 10500000 | I16: =G16/F16*100 -> 0
A17: 21 | B17: КОНТАКТИ СО ГРАЃАНИ | C17: 425 | D17: Договорни услуги | E17: 9000000 | F17: =E17-J17 -> 7000000 | G17: 1821923 | H17: =F17-G17 -> 5178077 | I17: =G17/F17*100 -> 26.027471 | J17: 2000000 | L17: Се обезбедуваат средства за 75 асистенти за 7 месеци
A18: 21 | B18: КОНТАКТИ СО ГРАЃАНИ | C18: 426 | D18: Други тековни расходи | E18: 5400000 | F18: =E18-J18 -> 2400000 | G18: 138059 | H18: =F18-G18 -> 2261941 | I18: =G18/F18*100 -> 5.7524583 | J18: 3000000
A19: 22 | B19: ИЗГРАДБА НА СОБРАНИСКА ЗГРАДА | C19: 424 | D19: Поправки и тековно одржување | E19: 3400000 | F19: 3400000 | G19: 681461 | H19: =E19-G19 -> 2718539 | I19: =G19/F19*100 -> 20.042971
A20: 22 | B20: ИЗГРАДБА НА СОБРАНИСКА ЗГРАДА | C20: 480 | D20: Купување на опрема и машини | E20: 600000 | F20: 600000 | G20: =[3]ПОСТАВКА!G108 -> 0 | H20: =E20-G20 -> 600000 | I20: =G20/F20*100 -> 0
A21: 22 | B21: ИЗГРАДБА НА СОБРАНИСКА ЗГРАДА | C21: 481 | D21: Градежни објекти | E21: 5000000 | F21: 5000000 | G21: 660764 | H21: =E21-G21 -> 4339236 | I21: =G21/F21*100 -> 13.21528
A22: 23 | B22: СОБРАНИСКИ КАНАЛ | C22: 423 | D22: Материјали и ситен инвентар | E22: 300000 | F22: 300000 | G22: 23600 | H22: =E22-G22 -> 276400 | I22: =G22/F22*100 -> 7.8666667
A23: 23 | B23: СОБРАНИСКИ КАНАЛ | C23: 424 | D23: Поправки и тековно одржување | E23: 2500000 | F23: =E23-J23 -> 2340000 | G23: 0 | H23: =F23-G23 -> 2340000 | I23: =G23/F23*100 -> 0 | J23: 160000 | L23: Се врши прераспределба на средства во рамките на потпрограма 23
A24: 23 | B24: СОБРАНИСКИ КАНАЛ | C24: 425 | D24: Договорни услуги | E24: 1500000 | F24: 1500000 | G24: 89623 | H24: =E24-G24 -> 1410377 | I24: =G24/F24*100 -> 5.9748667
A25: 23 | B25: СОБРАНИСКИ КАНАЛ | C25: 426 | D25: Други тековни расходи | E25: 1000000 | F25: 1000000 | G25: 12000 | H25: =E25-G25 -> 988000 | I25: =G25/F25*100 -> 1.2
A26: 23 | B26: СОБРАНИСКИ КАНАЛ | C26: 480 | D26: Купување на опрема и машини | E26: 1600000 | F26: 1600000 | G26: 319325 | H26: =E26-G26 -> 1280675 | I26: =G26/F26*100 -> 19.957812
A27: 23 | B27: СОБРАНИСКИ КАНАЛ | C27: 483 | D27: Купување на мебел | E27: 500000 | F27: =E27+K27 -> 660000 | G27: 0 | H27: =F27-G27 -> 660000 | I27: =G27/F27*100 -> 0 | K27: 160000 | L27: Дообезбедување на средства по спроведена набавка со поништување
A28: 23 | B28: СОБРАНИСКИ КАНАЛ | C28: 485 | D28: Вложувања и нефинансиски средства | E28: 500000 | F28: 500000 | G28: 0 | H28: =E28-G28 -> 500000 | I28: =G28/F28*100 -> 0
A29: 26 | B29: ПАРЛАМЕНТАРЕН ИНСТИТУТ | C29: 420 | D29: Патни и дневни расходи | E29: 2300000 | F29: 2300000 | G29: 230242 | H29: =E29-G29 -> 2069758 | I29: =G29/F29*100 -> 10.010522
A30: 26 | B30: ПАРЛАМЕНТАРЕН ИНСТИТУТ | C30: 424 | D30: Поправки и тековно одржување | E30: 1500000 | F30: 1500000 | G30: 361375 | H30: =E30-G30 -> 1138625 | I30: =G30/F30*100 -> 24.091667
A31: 26 | B31: ПАРЛАМЕНТАРЕН ИНСТИТУТ | C31: 425 | D31: Договорни услуги | E31: 2150000 | F31: 2150000 | G31: 143123 | H31: =E31-G31 -> 2006877 | I31: =G31/F31*100 -> 6.6568837
A32: 26 | B32: ПАРЛАМЕНТАРЕН ИНСТИТУТ | C32: 426 | D32: Други тековни расходи | E32: 1400000 | F32: 1400000 | G32: 266636 | H32: =E32-G32 -> 1133364 | I32: =G32/F32*100 -> 19.045429
A33: 26 | B33: ПАРЛАМЕНТАРЕН ИНСТИТУТ | C33: 485 | D33: Вложувања и нефинансиски средства | E33: 3000000 | F33: 3000000 | G33: =[3]ПОСТАВКА!G155 -> 0 | H33: =E33-G33 -> 3000000 | I33: =G33/F33*100 -> 0
